BEGIN:VCALENDAR
VERSION:2.0
PRODID:-//Motor City Packards - ECPv6.15.20//NONSGML v1.0//EN
CALSCALE:GREGORIAN
METHOD:PUBLISH
X-WR-CALNAME:Motor City Packards
X-ORIGINAL-URL:https://www.motorcitypackards.org
X-WR-CALDESC:Events for Motor City Packards
REFRESH-INTERVAL;VALUE=DURATION:PT1H
X-Robots-Tag:noindex
X-PUBLISHED-TTL:PT1H
BEGIN:VTIMEZONE
TZID:America/Detroit
BEGIN:DAYLIGHT
TZOFFSETFROM:-0500
TZOFFSETTO:-0400
TZNAME:EDT
DTSTART:20250309T070000
END:DAYLIGHT
BEGIN:STANDARD
TZOFFSETFROM:-0400
TZOFFSETTO:-0500
TZNAME:EST
DTSTART:20251102T060000
END:STANDARD
BEGIN:DAYLIGHT
TZOFFSETFROM:-0500
TZOFFSETTO:-0400
TZNAME:EDT
DTSTART:20260308T070000
END:DAYLIGHT
BEGIN:STANDARD
TZOFFSETFROM:-0400
TZOFFSETTO:-0500
TZNAME:EST
DTSTART:20261101T060000
END:STANDARD
BEGIN:DAYLIGHT
TZOFFSETFROM:-0500
TZOFFSETTO:-0400
TZNAME:EDT
DTSTART:20270314T070000
END:DAYLIGHT
BEGIN:STANDARD
TZOFFSETFROM:-0400
TZOFFSETTO:-0500
TZNAME:EST
DTSTART:20271107T060000
END:STANDARD
END:VTIMEZONE
BEGIN:VEVENT
DTSTART;VALUE=DATE:20260801
DTEND;VALUE=DATE:20260901
DTSTAMP:20260420T035205
CREATED:20251216T011340Z
LAST-MODIFIED:20251216T011340Z
UID:3814-1785542400-1788220799@www.motorcitypackards.org
SUMMARY:Ice Cream Social
DESCRIPTION:August – Date TBA
URL:https://www.motorcitypackards.org/event/ice-cream-social-2/
END:VEVENT
BEGIN:VEVENT
DTSTART;VALUE=DATE:20260814
DTEND;VALUE=DATE:20260815
DTSTAMP:20260420T035205
CREATED:20251216T011513Z
LAST-MODIFIED:20251216T011513Z
UID:3816-1786665600-1786751999@www.motorcitypackards.org
SUMMARY:Ten Days of Packards at the Berkley CruiseFest
DESCRIPTION:
URL:https://www.motorcitypackards.org/event/ten-days-of-packards-at-the-berkley-cruisefest/
END:VEVENT
BEGIN:VEVENT
DTSTART;VALUE=DATE:20260815
DTEND;VALUE=DATE:20260816
DTSTAMP:20260420T035205
CREATED:20251216T011557Z
LAST-MODIFIED:20251216T011557Z
UID:3818-1786752000-1786838399@www.motorcitypackards.org
SUMMARY:Ten Days of Packards at Flint's Back to the Bricks
DESCRIPTION:
URL:https://www.motorcitypackards.org/event/ten-days-of-packards-at-flints-back-to-the-bricks/
END:VEVENT
END:VCALENDAR