BEGIN:VCALENDAR
VERSION:2.0
PRODID:-//Motor City Packards - ECPv6.15.20//NONSGML v1.0//EN
CALSCALE:GREGORIAN
METHOD:PUBLISH
X-WR-CALNAME:Motor City Packards
X-ORIGINAL-URL:https://www.motorcitypackards.org
X-WR-CALDESC:Events for Motor City Packards
REFRESH-INTERVAL;VALUE=DURATION:PT1H
X-Robots-Tag:noindex
X-PUBLISHED-TTL:PT1H
BEGIN:VTIMEZONE
TZID:America/Detroit
BEGIN:DAYLIGHT
TZOFFSETFROM:-0500
TZOFFSETTO:-0400
TZNAME:EDT
DTSTART:20190310T070000
END:DAYLIGHT
BEGIN:STANDARD
TZOFFSETFROM:-0400
TZOFFSETTO:-0500
TZNAME:EST
DTSTART:20191103T060000
END:STANDARD
BEGIN:DAYLIGHT
TZOFFSETFROM:-0500
TZOFFSETTO:-0400
TZNAME:EDT
DTSTART:20200308T070000
END:DAYLIGHT
BEGIN:STANDARD
TZOFFSETFROM:-0400
TZOFFSETTO:-0500
TZNAME:EST
DTSTART:20201101T060000
END:STANDARD
BEGIN:DAYLIGHT
TZOFFSETFROM:-0500
TZOFFSETTO:-0400
TZNAME:EDT
DTSTART:20210314T070000
END:DAYLIGHT
BEGIN:STANDARD
TZOFFSETFROM:-0400
TZOFFSETTO:-0500
TZNAME:EST
DTSTART:20211107T060000
END:STANDARD
END:VTIMEZONE
BEGIN:VEVENT
DTSTART;VALUE=DATE:20200814
DTEND;VALUE=DATE:20200824
DTSTAMP:20260424T235407
CREATED:20200519T002320Z
LAST-MODIFIED:20200810T134209Z
UID:798-1597363200-1598227199@www.motorcitypackards.org
SUMMARY:Ten Days of Packard
DESCRIPTION:Please mark your calendar for The Third Annual “Ten Days of Packard” (TDOP)\, being held from Friday\, August 14 to Sunday\, August 23\, 2020! \nAs you may recall\, the Ten Days of Packard is essentially a do-it-yourself event.  The purpose is to get your car out\, whether it is to a local park\, a favorite hangout or place in your town\, the Packard Proving Grounds\, the Packard Plant\, a drive-in movie theater\, or just go for a ride.  If you look in the current July-August issue of The Packard Digest\, you will see some examples from previous years. \nThe Packards always draw a thumbs-up\, smiles\, and you may have to explain that Packard was not part of General Motors.  We are hoping for a really big turnout this year\, as there are numerous reports of Packards getting restless from the stay-at-home orders that have resulted in them being stuck in garages and storage facilities — and their owners are restless too! \nWe plan to feature many pictures on the MCP Facebook page\, as well as a bit later on the MCP Website and then in an issue of The Packard Digest.  So why not do your car a favor\, yourself a favor\, and the world a favor\, and drive your car anywhere you want\, take a picture\, and send it with a description of your car and where the photo was taken to our Executive Director\, Kevin Luedtke .
URL:https://www.motorcitypackards.org/event/ten-days-of-packard/
ATTACH;FMTTYPE=image/jpeg:https://www.motorcitypackards.org/wp-content/uploads/2020/05/wheel.jpg
END:VEVENT
END:VCALENDAR